Workbook
Name _z: data!$D$6:$D$88
Name ADC: data!$A$6:$A$88
Name ADCmax: data!$F$3
Name beta: data!$B$4
Name R0: data!$B$2
Name Rs: data!$B$3
Name Rth: data!$C$6:$C$88
Name T0: data!$B$1
Name tc: data!$E$6:$E$88
Name Uth: data!$B$6:$B$88
Name Vcc: data!$F$1
Name Vmax: data!$F$2
Name Vmin: data!$F$4

Sheet data
A1: T0 | B1: 298 | C1: °K | E1: Vcc | F1: 3.3 | G1: V
A2: R0 | B2: 10 | C2: Kohms | E2: Vmax | F2: 2.5 | G2: tension max linéaire lue par ADC
A3: Rs | B3: 4.7 | C3: Kohms | E3: ADCmax | F3: 2800 | G3: lecture ADC correspondant à Vmax
A4: beta | B4: 3435 | E4: Vmin | F4: 0.2 | G4: tension min mesurable par ADC
A5: Adc | B5: Uth (V) | C5: Rth (Kohm) | D5: _z | E5: t calc (°C) | F5: t arroundie | G5: Rth Eaton | H5: diff | I5: diff%
A6: 3210 | B6: =ADC/ADCmax*(Vmax-Vmin) +Vmin -> 2.8367857 | C6: =Rs/((Vcc/Uth) -1) -> 28.783423 | D6: =R0/Rs*(Vcc/(ADC*(Vmax-Vmin)/ADCmax + Vmin)-1) -> 0.34742219 | E6: =-273 + 1/(1/T0 -LN(_z)/beta) -> -0.035634816 | F6: =ROUND(E6,0) -> 0 | G6: =VLOOKUP(F6,'datasheet Eaton'!A:B,2,TRUE) -> 23.57 | H6: =C6-G6 -> 5.2134233 | I6: =H6/G6 -> 0.22118894
A7: 2800 | B7: =ADC/ADCmax*(Vmax-Vmin) +Vmin -> 2.5 | C7: =Rs/((Vcc/Uth) -1) -> 14.6875 | D7: =R0/Rs*(Vcc/(ADC*(Vmax-Vmin)/ADCmax + Vmin)-1) -> 0.68085106 | E7: =-273 + 1/(1/T0 -LN(_z)/beta) -> 15.382654 | F7: =ROUND(E7,0) -> 15 | G7: =VLOOKUP(F7,'datasheet Eaton'!A:B,2,TRUE) -> 14.07 | H7: =C7-G7 -> 0.6175 | I7: =H7/G7 -> 0.043887704
A8: 2750 | B8: =ADC/ADCmax*(Vmax-Vmin) +Vmin -> 2.4589286 | C8: =Rs/((Vcc/Uth) -1) -> 13.740764 | D8: =R0/Rs*(Vcc/(ADC*(Vmax-Vmin)/ADCmax + Vmin)-1) -> 0.72776155 | E8: =-273 + 1/(1/T0 -LN(_z)/beta) -> 17.0049 | F8: =ROUND(E8,0) -> 17 | G8: =VLOOKUP(F8,'datasheet Eaton'!A:B,2,TRUE) -> 13.14 | H8: =C8-G8 -> 0.60076433 | I8: =H8/G8 -> 0.045720269
A9: 2700 | B9: =ADC/ADCmax*(Vmax-Vmin) +Vmin -> 2.4178571 | C9: =Rs/((Vcc/Uth) -1) -> 12.882186 | D9: =R0/Rs*(Vcc/(ADC*(Vmax-Vmin)/ADCmax + Vmin)-1) -> 0.77626575 | E9: =-273 + 1/(1/T0 -LN(_z)/beta) -> 18.593302 | F9: =ROUND(E9,0) -> 19 | G9: =VLOOKUP(F9,'datasheet Eaton'!A:B,2,TRUE) -> 12.27 | H9: =C9-G9 -> 0.61218623 | I9: =H9/G9 -> 0.049892929
A10: 2650 | B10: =ADC/ADCmax*(Vmax-Vmin) +Vmin -> 2.3767857 | C10: =Rs/((Vcc/Uth) -1) -> 12.1 | D10: =R0/Rs*(Vcc/(ADC*(Vmax-Vmin)/ADCmax + Vmin)-1) -> 0.82644628 | E10: =-273 + 1/(1/T0 -LN(_z)/beta) -> 20.15212 | F10: =ROUND(E10,0) -> 20 | G10: =VLOOKUP(F10,'datasheet Eaton'!A:B,2,TRUE) -> 11.86 | H10: =C10-G10 -> 0.24 | I10: =H10/G10 -> 0.020236088
A11: 2600 | B11: =ADC/ADCmax*(Vmax-Vmin) +Vmin -> 2.3357143 | C11: =Rs/((Vcc/Uth) -1) -> 11.384444 | D11: =R0/Rs*(Vcc/(ADC*(Vmax-Vmin)/ADCmax + Vmin)-1) -> 0.87839157 | E11: =-273 + 1/(1/T0 -LN(_z)/beta) -> 21.685155 | F11: =ROUND(E11,0) -> 22 | G11: =VLOOKUP(F11,'datasheet Eaton'!A:B,2,TRUE) -> 11.08 | H11: =C11-G11 -> 0.30444444 | I11: =H11/G11 -> 0.027476935
A12: 2550 | B12: =ADC/ADCmax*(Vmax-Vmin) +Vmin -> 2.2946429 | C12: =Rs/((Vcc/Uth) -1) -> 10.727353 | D12: =R0/Rs*(Vcc/(ADC*(Vmax-Vmin)/ADCmax + Vmin)-1) -> 0.93219637 | E12: =-273 + 1/(1/T0 -LN(_z)/beta) -> 23.195826 | F12: =ROUND(E12,0) -> 23 | G12: =VLOOKUP(F12,'datasheet Eaton'!A:B,2,TRUE) -> 10.7 | H12: =C12-G12 -> 0.027353464 | I12: =H12/G12 -> 0.0025563985
A13: 2500 | B13: =ADC/ADCmax*(Vmax-Vmin) +Vmin -> 2.2535714 | C13: =Rs/((Vcc/Uth) -1) -> 10.121843 | D13: =R0/Rs*(Vcc/(ADC*(Vmax-Vmin)/ADCmax + Vmin)-1) -> 0.98796237 | E13: =-273 + 1/(1/T0 -LN(_z)/beta) -> 24.687235 | F13: =ROUND(E13,0) -> 25 | G13: =VLOOKUP(F13,'datasheet Eaton'!A:B,2,TRUE) -> 10 | H13: =C13-G13 -> 0.121843 | I13: =H13/G13 -> 0.0121843
A14: 2450 | B14: =ADC/ADCmax*(Vmax-Vmin) +Vmin -> 2.2125 | C14: =Rs/((Vcc/Uth) -1) -> 9.562069 | D14: =R0/Rs*(Vcc/(ADC*(Vmax-Vmin)/ADCmax + Vmin)-1) -> 1.0457988 | E14: =-273 + 1/(1/T0 -LN(_z)/beta) -> 26.162224 | F14: =ROUND(E14,0) -> 26 | G14: =VLOOKUP(F14,'datasheet Eaton'!A:B,2,TRUE) -> 9.67 | H14: =C14-G14 -> -0.10793103 | I14: =H14/G14 -> -0.011161431
A15: 2400 | B15: =ADC/ADCmax*(Vmax-Vmin) +Vmin -> 2.1714286 | C15: =Rs/((Vcc/Uth) -1) -> 9.043038 | D15: =R0/Rs*(Vcc/(ADC*(Vmax-Vmin)/ADCmax + Vmin)-1) -> 1.1058231 | E15: =-273 + 1/(1/T0 -LN(_z)/beta) -> 27.623414 | F15: =ROUND(E15,0) -> 28 | G15: =VLOOKUP(F15,'datasheet Eaton'!A:B,2,TRUE) -> 9.03 | H15: =C15-G15 -> 0.013037975 | I15: =H15/G15 -> 0.001443851
A16: 2350 | B16: =ADC/ADCmax*(Vmax-Vmin) +Vmin -> 2.1303571 | C16: =Rs/((Vcc/Uth) -1) -> 8.560458 | D16: =R0/Rs*(Vcc/(ADC*(Vmax-Vmin)/ADCmax + Vmin)-1) -> 1.1681618 | E16: =-273 + 1/(1/T0 -LN(_z)/beta) -> 29.073245 | F16: =ROUND(E16,0) -> 29 | G16: =VLOOKUP(F16,'datasheet Eaton'!A:B,2,TRUE) -> 8.73 | H16: =C16-G16 -> -0.16954198 | I16: =H16/G16 -> -0.019420617
A17: 2300 | B17: =ADC/ADCmax*(Vmax-Vmin) +Vmin -> 2.0892857 | C17: =Rs/((Vcc/Uth) -1) -> 8.1106195 | D17: =R0/Rs*(Vcc/(ADC*(Vmax-Vmin)/ADCmax + Vmin)-1) -> 1.2329514 | E17: =-273 + 1/(1/T0 -LN(_z)/beta) -> 30.514008 | F17: =ROUND(E17,0) -> 31 | G17: =VLOOKUP(F17,'datasheet Eaton'!A:B,2,TRUE) -> 8.16 | H17: =C17-G17 -> -0.049380531 | I17: =H17/G17 -> -0.0060515357
... A61: 100 | B61: =ADC/ADCmax*(Vmax-Vmin) +Vmin -> 0.28214286 | C61: =Rs/((Vcc/Uth) -1) -> 0.43940828 | D61: =R0/Rs*(Vcc/(ADC*(Vmax-Vmin)/ADCmax + Vmin)-1) -> 22.757878 | E61: =-273 + 1/(1/T0 -LN(_z)/beta) -> 135.83443 | F61: =ROUND(E61,0) -> 136 | G61: =VLOOKUP(F61,'datasheet Eaton'!A:B,2,TRUE) -> 0.8324 | H61: =C61-G61 -> -0.39299172 | I61: =H61/G61 -> -0.47211883

Sheet datasheet Eaton
A1: Temp °C | B1: Rth (Kohm) | C1: Rth mesurée
A2: 0 | B2: 23.57 | D2: CTN marque | E2: EATON
A3: 1 | B3: 22.77 | D3: Ref CTN | E3: NRG2104F3435B2F
A4: 2 | B4: 22 | D4: les données corectes dans la datasheet pour cette CTN sont dans colonne NRG203 3435
A5: 3 | B5: 21.26
A6: 4 | B6: 20.54
A7: 5 | B7: 19.84
A8: 6 | B8: 19.17
A9: 7 | B9: 18.52
A10: 8 | B10: 17.89
A11: 9 | B11: 17.29
A12: 10 | B12: 16.71
A13: 11 | B13: 16.14
A14: 12 | B14: 15.6
A15: 13 | B15: 15.07
A16: 14 | B16: 14.56
... A24: 22 | B24: 11.08
A25: 23 | B25: 10.7 | C25: 10.95
A26: 24 | B26: 10.35
A27: 25 | B27: 10
A28: 26 | B28: 9.67
A29: 27 | B29: 9.34
A30: 28 | B30: 9.03
A31: 29 | B31: 8.73 | C31: 9.2
A32: 30 | B32: 8.44
A33: 31 | B33: 8.16
A34: 32 | B34: 7.89
A35: 33 | B35: 7.62
A36: 34 | B36: 7.37
A37: 35 | B37: 7.13
A38: 36 | B38: 6.89
A39: 37 | B39: 6.66
A40: 38 | B40: 6.44
A41: 39 | B41: 6.23
A42: 40 | B42: 6.03 | C42: 5.9
A43: 41 | B43: 5.83
A44: 42 | B44: 5.64
A45: 43 | B45: 5.45
A46: 44 | B46: 5.27
A47: 45 | B47: 5.1
...

Sheet formules
K4: Linéarité de l'ADC d'un ESP32
